BEGIN:VCALENDAR
VERSION:2.0
PRODID:-//Vivekananda College - ECPv4.9.1//NONSGML v1.0//EN
CALSCALE:GREGORIAN
METHOD:PUBLISH
X-WR-CALNAME:Vivekananda College
X-ORIGINAL-URL:https://www.vivekanandacollege.ac.in
X-WR-CALDESC:Events for Vivekananda College
BEGIN:VEVENT
DTSTART;TZID=Asia/Kolkata:20231208T233000
DTEND;TZID=Asia/Kolkata:20231208T233000
DTSTAMP:20260421T081142
CREATED:20231207T063213Z
LAST-MODIFIED:20231207T063213Z
UID:35036-1702078200-1702078200@www.vivekanandacollege.ac.in
SUMMARY:Technology in Modern Era
DESCRIPTION:
URL:https://www.vivekanandacollege.ac.in/event/technology-in-modern-era/
LOCATION:Vivekananda College Tiruvedakam West\, Madurai District – 625 234\, Tiruvedakam West\, Madurai\, Tamilnadu\, 625 234\, India
ATTACH;FMTTYPE=image/jpeg:https://www.vivekanandacollege.ac.in/wp-content/uploads/2023/12/WhatsApp-Image-2023-12-07-at-11.50.26-AM.jpeg
END:VEVENT
END:VCALENDAR